BEGIN:VCALENDAR
VERSION:2.0
PRODID:-//Helping a Hero - ECPv6.15.20//NONSGML v1.0//EN
CALSCALE:GREGORIAN
METHOD:PUBLISH
X-ORIGINAL-URL:https://helpingahero.org
X-WR-CALDESC:Events for Helping a Hero
REFRESH-INTERVAL;VALUE=DURATION:PT1H
X-Robots-Tag:noindex
X-PUBLISHED-TTL:PT1H
BEGIN:VTIMEZONE
TZID:UTC
BEGIN:STANDARD
TZOFFSETFROM:+0000
TZOFFSETTO:+0000
TZNAME:UTC
DTSTART:20210101T000000
END:STANDARD
END:VTIMEZONE
BEGIN:VTIMEZONE
TZID:America/Chicago
BEGIN:DAYLIGHT
TZOFFSETFROM:-0600
TZOFFSETTO:-0500
TZNAME:CDT
DTSTART:20220313T080000
END:DAYLIGHT
BEGIN:STANDARD
TZOFFSETFROM:-0500
TZOFFSETTO:-0600
TZNAME:CST
DTSTART:20221106T070000
END:STANDARD
BEGIN:DAYLIGHT
TZOFFSETFROM:-0600
TZOFFSETTO:-0500
TZNAME:CDT
DTSTART:20230312T080000
END:DAYLIGHT
BEGIN:STANDARD
TZOFFSETFROM:-0500
TZOFFSETTO:-0600
TZNAME:CST
DTSTART:20231105T070000
END:STANDARD
BEGIN:DAYLIGHT
TZOFFSETFROM:-0600
TZOFFSETTO:-0500
TZNAME:CDT
DTSTART:20240310T080000
END:DAYLIGHT
BEGIN:STANDARD
TZOFFSETFROM:-0500
TZOFFSETTO:-0600
TZNAME:CST
DTSTART:20241103T070000
END:STANDARD
END:VTIMEZONE
BEGIN:VEVENT
DTSTART;TZID=UTC:20230628T103000
DTEND;TZID=UTC:20230628T123000
DTSTAMP:20260421T110640
CREATED:20230619T202257Z
LAST-MODIFIED:20230623T170830Z
UID:2050-1687948200-1687955400@helpingahero.org
SUMMARY:Groundbreaking Ceremony honoring SSG Scott Adams\, USA (Ret)
DESCRIPTION:
URL:https://helpingahero.org/event/groundbreaking-ceremony-honoring-ssg-scott-adams-usa-ret/
LOCATION:Bulverde\, TX\, 32118 Lemon Mint\, Bulverde\, TX\, 78163\, United States
ATTACH;FMTTYPE=application/pdf:https://helpingahero.org/wp-content/uploads/2023/06/SSG-Scott-Adams-Groundbreaking-3.pdf
END:VEVENT
BEGIN:VEVENT
DTSTART;TZID=UTC:20230627T103000
DTEND;TZID=UTC:20230627T123000
DTSTAMP:20260421T110640
CREATED:20230623T171852Z
LAST-MODIFIED:20230623T171852Z
UID:2065-1687861800-1687869000@helpingahero.org
SUMMARY:Groundbreaking Ceremony Honoring SSGT Jose Rivera\, USMC (Ret)
DESCRIPTION:
URL:https://helpingahero.org/event/groundbreaking-ceremony-honoring-ssgt-jose-rivera-usmc-ret/
LOCATION:New Braunfels\, 1210 Wild rose Dr.\, New Braunfels\, TX\, 78132\, United States
ATTACH;FMTTYPE=application/pdf:https://helpingahero.org/wp-content/uploads/2023/06/SSG-Jose-Rivera-Groundbreaking-2-1.pdf
END:VEVENT
BEGIN:VEVENT
DTSTART;TZID=UTC:20230515T120000
DTEND;TZID=UTC:20230515T180000
DTSTAMP:20260421T110640
CREATED:20230512T191555Z
LAST-MODIFIED:20230512T191555Z
UID:1964-1684152000-1684173600@helpingahero.org
SUMMARY:The 8th Annual Wayne C. Gardner Memorial Golf Classic
DESCRIPTION:
URL:https://helpingahero.org/event/the-8th-annual-wayne-c-gardner-memorial-golf-classic/
LOCATION:Huntsville Country Club\, 2601 Oakwood Avenue\, Huntsville\, AL\, 35810\, United States
ATTACH;FMTTYPE=application/pdf:https://helpingahero.org/wp-content/uploads/2023/05/2023-golf-flyer-with-corrections-Correct.pdf
END:VEVENT
BEGIN:VEVENT
DTSTART;TZID=UTC:20230504T130000
DTEND;TZID=UTC:20230504T150000
DTSTAMP:20260421T110640
CREATED:20230512T190953Z
LAST-MODIFIED:20230512T190953Z
UID:1959-1683205200-1683212400@helpingahero.org
SUMMARY:Groundbreaking Ceremony Honoring SGT Benjamin Marksmeier\, USA (Ret)
DESCRIPTION:
URL:https://helpingahero.org/event/groundbreaking-ceremony-honoring-sgt-benjamin-marksmeier-usa-ret/
LOCATION:Springfield\, NE\, 20121 S 172nd Plz Cir\, Springfield\, NE\, 68059\, United States
ATTACH;FMTTYPE=application/pdf:https://helpingahero.org/wp-content/uploads/2023/05/Ben-Markesmeier-Groundbreaking.pdf
END:VEVENT
BEGIN:VEVENT
DTSTART;TZID=UTC:20230502T103000
DTEND;TZID=UTC:20230502T123000
DTSTAMP:20260421T110640
CREATED:20230426T003811Z
LAST-MODIFIED:20230426T003811Z
UID:1952-1683023400-1683030600@helpingahero.org
SUMMARY:Welcome Home Ceremony Honoring SPC Shaun Robey\, USA (Ret)
DESCRIPTION:
URL:https://helpingahero.org/event/welcome-home-ceremony-honoring-spc-shaun-robey-usa-ret/
LOCATION:Longview Subdivision\, 205 Long Crest road\, Lexington\, SC\, 29073\, United States
ATTACH;FMTTYPE=application/pdf:https://helpingahero.org/wp-content/uploads/2023/04/SPC-Shaun-Robey-homecominginvitation.pdf
END:VEVENT
BEGIN:VEVENT
DTSTART;TZID=UTC:20230428T120000
DTEND;TZID=UTC:20230428T140000
DTSTAMP:20260421T110640
CREATED:20230426T003536Z
LAST-MODIFIED:20230426T003536Z
UID:1949-1682683200-1682690400@helpingahero.org
SUMMARY:Groundbreaking Ceremony Honoring SSG Travis Strong USA (Ret.)
DESCRIPTION:
URL:https://helpingahero.org/event/groundbreaking-ceremony-honoring-ssg-travis-strong-usa-ret/
LOCATION:Carraway Subdivision\, 1494 Iris Cove\, Haslet\, TX\, 76052\, United States
ATTACH;FMTTYPE=application/pdf:https://helpingahero.org/wp-content/uploads/2023/04/Travis-Strong-Groundbreaking-4.pdf
END:VEVENT
BEGIN:VEVENT
DTSTART;TZID=UTC:20230424T100000
DTEND;TZID=UTC:20230424T120000
DTSTAMP:20260421T110640
CREATED:20230418T205154Z
LAST-MODIFIED:20230419T201806Z
UID:1942-1682330400-1682337600@helpingahero.org
SUMMARY:Groundbreaking Ceremony: Honoring CPL Matthew Houston\, USA (Ret)
DESCRIPTION:
URL:https://helpingahero.org/event/groundbreaking-ceremony-honoring-cpl-matthew-houston-usa-ret/
LOCATION:TX
ATTACH;FMTTYPE=application/pdf:https://helpingahero.org/wp-content/uploads/2023/04/Groundbreaking-for-CPL-Matthew-Houston-USA-Ret-1.pdf
END:VEVENT
BEGIN:VEVENT
DTSTART;TZID=UTC:20230410T100000
DTEND;TZID=UTC:20230410T120000
DTSTAMP:20260421T110640
CREATED:20230407T153538Z
LAST-MODIFIED:20230407T153538Z
UID:1922-1681120800-1681128000@helpingahero.org
SUMMARY:Groundbreaking Ceremony Honoring SSG Brent Bretz\, USA (Ret)
DESCRIPTION:
URL:https://helpingahero.org/event/groundbreaking-ceremony-honoring-ssg-brent-bretz-usa-ret/
LOCATION:Warner Meadows Community\, 640 S Olympic Drive\, Gilbert\, AZ\, 85296\, United States
ATTACH;FMTTYPE=application/pdf:https://helpingahero.org/wp-content/uploads/2023/04/Groundbreaking-for-SSG-Brent-Bretz-USA-Ret-3-1.pdf
END:VEVENT
BEGIN:VEVENT
DTSTART;TZID=America/Chicago:20230320T110000
DTEND;TZID=America/Chicago:20230327T140000
DTSTAMP:20260421T110640
CREATED:20230313T233231Z
LAST-MODIFIED:20230320T155628Z
UID:1912-1679310000-1679925600@helpingahero.org
SUMMARY:Groundbreaking Ceremony Honoring CPL Nick Clark\, USA (Ret)
DESCRIPTION:Groundbreaking for CPL Nick Clark\, USA (Ret)
URL:https://helpingahero.org/event/1912/
LOCATION:817 Walnut Park Lane\, Pinehurst\, TX 77362\, 817 Walnut Park Lane\, Pinehurst\, TX\, 77362\, United States
ATTACH;FMTTYPE=application/pdf:https://helpingahero.org/wp-content/uploads/2023/03/Groundbreaking-for-CPL-Nick-Clark-USA-Ret-1.pdf
END:VEVENT
BEGIN:VEVENT
DTSTART;TZID=UTC:20221114T173000
DTEND;TZID=UTC:20221114T213000
DTSTAMP:20260421T110640
CREATED:20221110T175331Z
LAST-MODIFIED:20221110T175331Z
UID:1898-1668447000-1668461400@helpingahero.org
SUMMARY:The Lee Greenwood Patriots Award Dinner
DESCRIPTION:The Lee Greenwood Patriots Award Dinner: Celebrating Patriotism and Honoring Our Wounded Warriors\nFor More Information or to RSVP: patriots@helpingahero.org or 888-786-9531.
URL:https://helpingahero.org/event/the-lee-greenwood-patriots-award-dinner/
LOCATION:A View West Shores\, 110 S 243rd St.\, Waterloo\, NE\, 68069\, United States
ATTACH;FMTTYPE=image/jpeg:https://helpingahero.org/wp-content/uploads/2022/11/Omaha-9x6-postcard1024_1.jpg
END:VEVENT
BEGIN:VEVENT
DTSTART;TZID=UTC:20221113T130000
DTEND;TZID=UTC:20221113T180000
DTSTAMP:20260421T110640
CREATED:20221105T001919Z
LAST-MODIFIED:20221110T173157Z
UID:1890-1668344400-1668362400@helpingahero.org
SUMMARY:Family Fun Day & Concert
DESCRIPTION:
URL:https://helpingahero.org/event/family-fun-day-concert/
LOCATION:Hilton Omaha\, 1001 Cass Street\, Omaha\, NE\, 68012\, United States
ATTACH;FMTTYPE=image/jpeg:https://helpingahero.org/wp-content/uploads/2022/11/eventbrite-cover-photo-v3.jpg
END:VEVENT
BEGIN:VEVENT
DTSTART;TZID=UTC:20221005T100000
DTEND;TZID=UTC:20221005T120000
DTSTAMP:20260421T110640
CREATED:20220920T204334Z
LAST-MODIFIED:20220920T204334Z
UID:1829-1664964000-1664971200@helpingahero.org
SUMMARY:Welcome Home Ceremony - SSG Michael Brown\, USA (Ret)
DESCRIPTION:
URL:https://helpingahero.org/event/welcome-home-ceremony-ssg-michael-brown-usa-ret/
LOCATION:The Crossings at River Landing\, 100 Hudson River Dr\, Madison\, Alabama\, 35756
ATTACH;FMTTYPE=image/png:https://helpingahero.org/wp-content/uploads/2022/09/Screen-Shot-2022-09-20-at-3.39.45-PM.png
END:VEVENT
BEGIN:VEVENT
DTSTART;TZID=UTC:20220913T100000
DTEND;TZID=UTC:20220913T113000
DTSTAMP:20260421T110640
CREATED:20220902T203711Z
LAST-MODIFIED:20220902T203711Z
UID:1805-1663063200-1663068600@helpingahero.org
SUMMARY:Groundbreaking Ceremony - SPC Shaun Robey\, USA (Ret.)
DESCRIPTION:SPC Shaun Robey\, USA (Ret) is an avid hunter and fisherman. He\ngrew up in Georgia\, wrestled in high school and loved being part\nof a team. His father was former Navy and his brother was in the\ninfantry. In 2006\, Shaun joined the Army and deployed to Arab\nJabour Iraq with the 3rd ID. On July 24\, 2007\, an IED took out\ntheir truck leaving him with a crushed right foot and an amputated\nleft leg among other injuries. He received the Bronze Star and the\nPurple Heart. His best friend\, SGT Joe Bartel\, USA (Ret) lost his\nleg in that same blast and nominated Shaun for his Helping a Hero\nhome. He is married to Ashten and has 3 children. \n 
URL:https://helpingahero.org/event/groundbreaking-ceremony-spc-shaun-robey-usa-ret/
LOCATION:TX
ATTACH;FMTTYPE=image/jpeg:https://helpingahero.org/wp-content/uploads/2022/09/SPC-Shaun-Robey-groundbreaking-scaled.jpg
END:VEVENT
BEGIN:VEVENT
DTSTART;TZID=UTC:20220912T153000
DTEND;TZID=UTC:20220912T170000
DTSTAMP:20260421T110640
CREATED:20220902T204144Z
LAST-MODIFIED:20220902T204144Z
UID:1811-1662996600-1663002000@helpingahero.org
SUMMARY:Groundbreaking Ceremony - SGT James “Jimmy” King\, USMC (Ret)
DESCRIPTION:In 2004\, Marine Sergeant James King deployed to Ramadi\,\nIraq. While on patrol\, their unit was hit by a roadside bomb and\nhe lost his left leg. After being transferred to Landstuhl and\nthen to Walter Reed\, he was in a coma for 3 1/2 weeks. He then\nstarted the long rehabilitation to learn to walk again. Although\nhe still has many challenges with his prosthetic\, he is committed\nto remaining active. He has participated in over a dozen\nmarathons using a hand cycle and looks forward to having his\nadapted home built in Rocky Mount where he will finally be able\nto have a fully wheelchair accessible home and restore much of\nhis daily independence. He and his wife\, Beth\, have 3 children.
URL:https://helpingahero.org/event/groundbreaking-ceremony-sgt-james-jimmy-king-usmc-ret/
LOCATION:Belmont Lake Preserve\, Belmont Lake Preserve\, Rocky Mount\,\, NC\, United States
ATTACH;FMTTYPE=application/pdf:https://helpingahero.org/wp-content/uploads/2022/09/Sgt.-James-King-groundbreaking.pdf
END:VEVENT
BEGIN:VEVENT
DTSTART;TZID=UTC:20220628T110000
DTEND;TZID=UTC:20220628T130000
DTSTAMP:20260421T110640
CREATED:20220618T015331Z
LAST-MODIFIED:20220618T015625Z
UID:1743-1656414000-1656421200@helpingahero.org
SUMMARY:Welcome Home Ceremony - SFC Scott Barkalow
DESCRIPTION:You are invited to a Welcome Home Ceremony honoring the service and sacrifice of SFC Scott Barkalow on Tuesday\, June 28\, 2022. \nWith Special Guests\nLouis & Patti Breland\nLee Greenwood\nMeredith Iler\nHonorable Dale Strong \n  \nClick here to view the Groundbreaking. 
URL:https://helpingahero.org/event/welcome-home-ceremony-sfc-scott-barkalow/
LOCATION:Nature’s Cove West Subdivision\, Athens\, AL\, United States
ATTACH;FMTTYPE=image/png:https://helpingahero.org/wp-content/uploads/2022/06/Screen-Shot-2022-06-17-at-8.50.36-PM.png
END:VEVENT
BEGIN:VEVENT
DTSTART;TZID=UTC:20220620T173000
DTEND;TZID=UTC:20220620T220000
DTSTAMP:20260421T110640
CREATED:20220608T220044Z
LAST-MODIFIED:20220608T220404Z
UID:1701-1655746200-1655762400@helpingahero.org
SUMMARY:The Lee Greenwood Patriot Awards Dinner
DESCRIPTION:Celebrating Patriotism and Honoring our Wounded Warriors. \nCo-Chairs:\nRichard & Judy Childress\nBob & Penny Barnhill \n5:00 pm – Reception and Silent Auction\n6:30 pm – Dinner and Program\n           \nRVSP here or call (888)786-9531 \nUnable to attend but would still like to contribute? Please donate here. \n 
URL:https://helpingahero.org/event/the-lee-greenwood-patriot-awards-dinner/
LOCATION:Childress Vineyards\, 1000 Childress Vineyards Rd\, Lexington\, NC\, 27295\, United States
ATTACH;FMTTYPE=image/png:https://helpingahero.org/wp-content/uploads/2022/06/Screen-Shot-2022-06-08-at-4.56.13-PM.png
END:VEVENT
BEGIN:VEVENT
DTSTART;VALUE=DATE:20220525
DTEND;VALUE=DATE:20220526
DTSTAMP:20260421T110640
CREATED:20220425T183222Z
LAST-MODIFIED:20220516T211843Z
UID:1361-1653436800-1653523199@helpingahero.org
SUMMARY:Homecoming for SGT Christian Fleming USMC (Ret)
DESCRIPTION:You’re invited to the Welcome Home Ceremony for Sgt Chris Fleming\, USMC (Ret). \nWednesday\, May 25\, 2022 at 11AM in Port St. Lucie\, Florida \nRSVP to FL@helpingahero.org
URL:https://helpingahero.org/event/1361/
LOCATION:TX
ATTACH;FMTTYPE=application/pdf:https://helpingahero.org/wp-content/uploads/2022/04/Chris-Fleming-Welcome-Home-Invite-1.pdf
END:VEVENT
BEGIN:VEVENT
DTSTART;TZID=UTC:20220523T113000
DTEND;TZID=UTC:20220523T193000
DTSTAMP:20260421T110640
CREATED:20220418T183518Z
LAST-MODIFIED:20220518T135625Z
UID:1344-1653305400-1653334200@helpingahero.org
SUMMARY:Memorial Golf Tournament
DESCRIPTION:Click here for more information \nRSVP to Rhonda Walls Kerby at 281.389.4738 or golf@helpingahero.com
URL:https://helpingahero.org/event/memorial-golf-tournament/
LOCATION:TX
ATTACH;FMTTYPE=image/png:https://helpingahero.org/wp-content/uploads/2022/04/Screen-Shot-2022-05-12-at-4.05.41-PM.png
END:VEVENT
BEGIN:VEVENT
DTSTART;TZID=UTC:20220522T173000
DTEND;TZID=UTC:20220522T210000
DTSTAMP:20260421T110640
CREATED:20220512T204941Z
LAST-MODIFIED:20220516T212129Z
UID:1355-1653240600-1653253200@helpingahero.org
SUMMARY:Helping A Hero Telethon Watch Party
DESCRIPTION:Click here for more information!\nSawyer Park Icehouse\n314 Pruitt Rd\, Spring\, TX 77380\nTo Sponsor or Reserve a table contact Patriot@HelpingaHero.org
URL:https://helpingahero.org/event/helping-a-hero-telethon-watch-party-2/
LOCATION:TX
ATTACH;FMTTYPE=image/png:https://helpingahero.org/wp-content/uploads/2022/05/mailer-1.png
END:VEVENT
BEGIN:VEVENT
DTSTART;TZID=UTC:20220519T180000
DTEND;TZID=UTC:20220519T210000
DTSTAMP:20260421T110640
CREATED:20220425T181350Z
LAST-MODIFIED:20220512T210120Z
UID:1348-1652983200-1652994000@helpingahero.org
SUMMARY:Lee Greenwood Patriot Awards & Concert
DESCRIPTION:Click Here for More Information\n 
URL:https://helpingahero.org/event/lee-greenwood-concert-to-benefit-helping-a-hero/
LOCATION:Sheridan Austin/Georgetown Hotel\, 1101 Woodlawn Avenue\, Georgetown\, Texas\, 78628\, United States
ATTACH;FMTTYPE=application/pdf:https://helpingahero.org/wp-content/uploads/2022/04/May-19-Lee-Greenwood-Georgetown-Invitev2-1.pdf
END:VEVENT
END:VCALENDAR